BEGIN:VCALENDAR
X-WR-TIMEZONE:Europe/Berlin
X-WR-CALNAME:rbb-Kalender
VERSION:2.0
METHOD:PUBLISH
CALSCALE:GREGORIAN
PRODID:rbb-CMS DAY
BEGIN:VEVENT
LOCATION:Abenteuer Afrika
CLASS:PUBLIC
URL:http://www.rbb-online.de/content/rbb/rbb/fernsehen/programm/31_03_2014/11862342349.html
DTEND:20140331T175500
DTSTART:20140331T170500
UID:/content/rbb/rbb/fernsehen/programm/31_03_2014/11862342349
DTSTAMP:20140404T194407
DESCRIPTION:Ein kleiner Flugplatz rund 500 Kilometer von Harnas entfernt. Hier ist die Zwischenstation für ein Tier, das ein neues Zuhause bekommen soll. Die Farmer Peter und Steffi Körner bringen eine Tüpfelhyäne, die sie als Baby gefunden und aufgezogen haben. Mittlerweile ist sie in den Flegeljahren und nicht mehr erziehbar. Deshalb rief das Ehepaar "Das Waisenhaus für wilde Tiere" zu Hilfe. Wildhüter Johan und Volontär Axel sind von Harnas angereist, um sie auf die Farm Naua Naua zu bringen.
SUMMARY:Das Waisenhaus für wilde Tiere (53) 31.03.2014 17:05
END:VEVENT
END:VCALENDAR
