BEGIN:VCALENDAR
X-WR-TIMEZONE:Europe/Berlin
X-WR-CALNAME:rbb-Kalender
VERSION:2.0
METHOD:PUBLISH
CALSCALE:GREGORIAN
PRODID:rbb-CMS DAY
BEGIN:VEVENT
LOCATION:Die Wetteraussichten für Berlin und Brandenburg
CLASS:PUBLIC
URL:http://www.rbb-online.de/content/rbb/rbb/fernsehen/programm/31_03_2014/11862342397.html
DTEND:20140331T183000
DTSTART:20140331T182500
UID:/content/rbb/rbb/fernsehen/programm/31_03_2014/11862342397
DTSTAMP:20140404T194415
DESCRIPTION:
SUMMARY:rbb wetter 31.03.2014 18:25
END:VEVENT
END:VCALENDAR
