BEGIN:VCALENDAR
X-WR-TIMEZONE:Europe/Berlin
X-WR-CALNAME:rbb-Kalender
VERSION:2.0
METHOD:PUBLISH
CALSCALE:GREGORIAN
PRODID:rbb-CMS DAY
BEGIN:VEVENT
CLASS:PUBLIC
URL:http://www.rbb-online.de/content/rbb/rbb/fernsehen/programm/31_03_2014/11862342476.html
DTEND:20140331T201500
DTSTART:20140331T200000
UID:/content/rbb/rbb/fernsehen/programm/31_03_2014/11862342476
DTSTAMP:20140404T194516
DESCRIPTION:Themen:\n* Kommunalwahl in der Türkei: Ministerpräsident Erdogans Partei bleibt stärkste Kraft\n* Wahlniederlage für Frankreichs Sozialisten: Regierung tritt zurück \n* Pilotenstreik: Lufthansa streicht 3.800 Flüge
SUMMARY:Tagesschau 31.03.2014 20:00
END:VEVENT
END:VCALENDAR
