BEGIN:VCALENDAR
X-WR-TIMEZONE:Europe/Berlin
X-WR-CALNAME:rbb-Kalender
VERSION:2.0
METHOD:PUBLISH
CALSCALE:GREGORIAN
PRODID:rbb-CMS DAY
BEGIN:VEVENT
LOCATION:Was unsere Stimme verrät
CLASS:PUBLIC
URL:http://www.rbb-online.de/content/rbb/rbb/fernsehen/programm/31_03_2014/11862342542.html
DTEND:20140331T224500
DTSTART:20140331T221500
UID:/content/rbb/rbb/fernsehen/programm/31_03_2014/11862342542
DTSTAMP:20140404T194533
DESCRIPTION:Wenn zwei dasselbe sagen, bedeutet es bei weitem nicht immer dasselbe. Denn Stimmfarbe, Sprachmelodie oder Atemtechnik variieren von Mensch zu Mensch, von Situation zu Situation erheblich. Und mit diesem "Singsang" in unserer Stimme vermitteln wir oft mehr Inhalt als über Worte. Durch Stimme und Sprechweise verraten wir auch viel über uns selbst.\n
SUMMARY:Mehr als 1000 Worte 31.03.2014 22:15
END:VEVENT
END:VCALENDAR
