BEGIN:VCALENDAR
X-WR-TIMEZONE:Europe/Berlin
X-WR-CALNAME:rbb-Kalender
VERSION:2.0
METHOD:PUBLISH
CALSCALE:GREGORIAN
PRODID:rbb-CMS DAY
BEGIN:VEVENT
LOCATION:Fernsehfilm DDR 1985
CLASS:PUBLIC
URL:http://www.rbb-online.de/content/rbb/rbb/fernsehen/programm/31_03_2014/11862342551.html
DTEND:20140401T001000
DTSTART:20140331T224500
UID:/content/rbb/rbb/fernsehen/programm/31_03_2014/11862342551
DTSTAMP:20140404T194354
DESCRIPTION:Der Schauspieler Paul Schulte hat eine Kur angetreten, wegen einer Erkrankung und in der Hoffnung, die Trennung von seiner Frau Barbara zu verarbeiten. Im Kurort hält sich auch Fritz Krüger auf, der geschiedene Mann von Barbara. Das belastet Schulte, zumal Barbara, die Paul begleitet hat, noch im Ort ist. Doch Barbara interessiert sich mehr für die Kunstgegenstände in der Kirche, ebenso wie Klaus Grunow. Paul Schulte, der die Pläne seiner Frau durchschaut, bittet sie, sich nicht darauf einzulassen. Dann wird Paul Schulte tot aufgefunden. Fritz Krüger gerät nun unter Mordverdacht: Er hat den Abend zuvor mit Paul Schulte zugebracht.
SUMMARY:Polizeiruf 110: Außenseiter 31.03.2014 22:45
END:VEVENT
END:VCALENDAR
