BEGIN:VCALENDAR
X-WR-TIMEZONE:Europe/Berlin
X-WR-CALNAME:rbb-Kalender
VERSION:2.0
METHOD:PUBLISH
CALSCALE:GREGORIAN
PRODID:rbb-CMS DAY
BEGIN:VEVENT
CLASS:PUBLIC
URL:http://www.rbb-online.de/content/rbb/rbb/fernsehen/projekte/maerchenraetsel/maerchenfilme/das_singende__klingende.html
DTEND:20131215T141500
DTSTART:20131215T141500
UID:/content/rbb/rbb/fernsehen/projekte/maerchenraetsel/maerchenfilme/das_singende__klingende
DTSTAMP:20140408T025923
DESCRIPTION:Es war einmal eine Prinzessin, die war schön, aber sehr hartherzig. Und es war einmal ein Prinz, der war sehr gut und sehr tapfer.\n
SUMMARY:Das singende, klingende Bäumchen
END:VEVENT
END:VCALENDAR
