BEGIN:VCALENDAR
X-WR-TIMEZONE:Europe/Berlin
X-WR-CALNAME:rbb-Kalender
VERSION:2.0
METHOD:PUBLISH
CALSCALE:GREGORIAN
PRODID:rbb-CMS DAY
BEGIN:VEVENT
CLASS:PUBLIC
URL:http://www.rbb-online.de/content/rbb/rbb/fernsehen/projekte/maerchenraetsel/maerchenfilme/die_gaensehirtin_am.html
DTEND:20131224T141000
DTSTART:20131224T141000
UID:/content/rbb/rbb/fernsehen/projekte/maerchenraetsel/maerchenfilme/die_gaensehirtin_am
DTSTAMP:20140408T025512
DESCRIPTION:Hans zieht in die Welt, um Macht und Reichtum zu gewinnen. Eine Fee erfüllt seine maßlosen Erwartungen, doch jedesmal erleidet er empfindliche Rückschläge.\n
SUMMARY:Die Gänsehirtin am Brunnen
END:VEVENT
END:VCALENDAR
