BEGIN:VCALENDAR
X-WR-TIMEZONE:Europe/Berlin
X-WR-CALNAME:rbb-Kalender
VERSION:2.0
METHOD:PUBLISH
CALSCALE:GREGORIAN
PRODID:rbb-CMS DAY
BEGIN:VEVENT
CLASS:PUBLIC
URL:http://www.rbb-online.de/content/rbb/rbb/filmzeit/film/aber-vati---3-.html
DTEND:20140420T090000
DTSTART:20140420T090000
UID:/content/rbb/rbb/filmzeit/film/aber-vati---3-
DTSTAMP:20140405T191731
DESCRIPTION:Vati hat geheiratet - doch es gibt neue Probleme.\n\n\n
SUMMARY:Aber Vati! (3)
END:VEVENT
END:VCALENDAR
