BEGIN:VCALENDAR
X-WR-TIMEZONE:Europe/Berlin
X-WR-CALNAME:rbb-Kalender
VERSION:2.0
METHOD:PUBLISH
CALSCALE:GREGORIAN
PRODID:rbb-CMS DAY
BEGIN:VEVENT
CLASS:PUBLIC
URL:http://www.rbb-online.de/content/rbb/rbb/filmzeit/film/aber-vati-0.html
DTEND:20140419T090000
DTSTART:20140419T090000
UID:/content/rbb/rbb/filmzeit/film/aber-vati-0
DTSTAMP:20140405T191337
DESCRIPTION:Vati will heiraten - aber welche ist die Richtige?\n\n\n
SUMMARY:Aber Vati! (2)
END:VEVENT
END:VCALENDAR
