BEGIN:VCALENDAR
X-WR-TIMEZONE:Europe/Berlin
X-WR-CALNAME:rbb-Kalender
VERSION:2.0
METHOD:PUBLISH
CALSCALE:GREGORIAN
PRODID:rbb-CMS DAY
BEGIN:VEVENT
CLASS:PUBLIC
URL:http://www.rbb-online.de/content/rbb/rbb/filmzeit/film/gestern-waren-wir-fremde.html
DTEND:20140403T201500
DTSTART:20140403T201500
UID:/content/rbb/rbb/filmzeit/film/gestern-waren-wir-fremde
DTSTAMP:20140404T181807
DESCRIPTION:Lisa Wagner und Thomas Thieme in einem berührenden Melodrama.\n\n\n
SUMMARY:Gestern waren wir Fremde
END:VEVENT
END:VCALENDAR
