BEGIN:VCALENDAR
X-WR-TIMEZONE:Europe/Berlin
X-WR-CALNAME:rbb-Kalender
VERSION:2.0
METHOD:PUBLISH
CALSCALE:GREGORIAN
PRODID:rbb-CMS DAY
BEGIN:VEVENT
CLASS:PUBLIC
URL:http://www.rbb-online.de/content/rbb/rbb/filmzeit/film/herrliche_zeiten_im.html
DTEND:20140421T062000
DTSTART:20140421T062000
UID:/content/rbb/rbb/filmzeit/film/herrliche_zeiten_im
DTSTAMP:20140405T191738
DESCRIPTION:Weitere Gespensterkomödie mit Biss und Situationskomik.\n
SUMMARY:Herrliche Zeiten im Spessart
END:VEVENT
END:VCALENDAR
