BEGIN:VCALENDAR
X-WR-TIMEZONE:Europe/Berlin
X-WR-CALNAME:rbb-Kalender
VERSION:2.0
METHOD:PUBLISH
CALSCALE:GREGORIAN
PRODID:rbb-CMS DAY
BEGIN:VEVENT
CLASS:PUBLIC
URL:http://www.rbb-online.de/content/rbb/rbb/filmzeit/film/loriots-pappa-ante-portas.html
DTEND:20140421T221500
DTSTART:20140421T221500
UID:/content/rbb/rbb/filmzeit/film/loriots-pappa-ante-portas
DTSTAMP:20140405T192014
DESCRIPTION:Heinrich Lohse wird in den vorzeitigen Ruhestand versetzt und sorgt nun für Unruhe in seiner Familie.\n\n\n
SUMMARY:Loriots Pappa ante Portas
END:VEVENT
END:VCALENDAR
