BEGIN:VCALENDAR
X-WR-TIMEZONE:Europe/Berlin
X-WR-CALNAME:rbb-Kalender
VERSION:2.0
METHOD:PUBLISH
CALSCALE:GREGORIAN
PRODID:rbb-CMS DAY
BEGIN:VEVENT
CLASS:PUBLIC
URL:http://www.rbb-online.de/content/rbb/rbb/filmzeit/film/rabbit-hole---neue-wege.html
DTEND:20140419T235500
DTSTART:20140419T235500
UID:/content/rbb/rbb/filmzeit/film/rabbit-hole---neue-wege
DTSTAMP:20140405T192111
DESCRIPTION:Ein ergreifendes Drama mit Nicole Kidman und Aaron Eckhart in den Hauptrollen.\n\n\n
SUMMARY:Rabbit Hole - Neue Wege
END:VEVENT
END:VCALENDAR
