BEGIN:VCALENDAR
X-WR-TIMEZONE:Europe/Berlin
X-WR-CALNAME:rbb-Kalender
VERSION:2.0
METHOD:PUBLISH
CALSCALE:GREGORIAN
PRODID:rbb-CMS DAY
BEGIN:VEVENT
CLASS:PUBLIC
URL:http://www.rbb-online.de/content/rbb/rbb/filmzeit/film/shang-high-noon.html
DTEND:20140413T230000
DTSTART:20140413T230000
UID:/content/rbb/rbb/filmzeit/film/shang-high-noon
DTSTAMP:20140404T215452
DESCRIPTION:Jackie-Chan-Komödie mit reichlich Martial-Arts-Action und Wortwitz.\n\n\n
SUMMARY:Shang-High Noon
END:VEVENT
END:VCALENDAR
