BEGIN:VCALENDAR
X-WR-TIMEZONE:Europe/Berlin
X-WR-CALNAME:rbb-Kalender
VERSION:2.0
METHOD:PUBLISH
CALSCALE:GREGORIAN
PRODID:rbb-CMS DAY
BEGIN:VEVENT
CLASS:PUBLIC
URL:http://www.rbb-online.de/content/rbb/rbb/filmzeit/film/ueber-uns-das-all.html
DTEND:20140216T231500
DTSTART:20140216T231500
UID:/content/rbb/rbb/filmzeit/film/ueber-uns-das-all
DTSTAMP:20140406T165852
DESCRIPTION:Sandra Hüller und Georg Friedrich in einem eindringlichen Film von Jan Schomburg - Panorama 2011.\n\n\n
SUMMARY:Über uns das All
END:VEVENT
END:VCALENDAR
