BEGIN:VCALENDAR
X-WR-TIMEZONE:Europe/Berlin
X-WR-CALNAME:rbb-Kalender
VERSION:2.0
METHOD:PUBLISH
CALSCALE:GREGORIAN
PRODID:rbb-CMS DAY
BEGIN:VEVENT
CLASS:PUBLIC
URL:http://www.rbb-online.de/content/rbb/rbb/filmzeit/film/winnetou--2-.html
DTEND:20140406T140500
DTSTART:20140406T140500
UID:/content/rbb/rbb/filmzeit/film/winnetou--2-
DTSTAMP:20140404T215203
DESCRIPTION:Pierre Brice und Lex Barker in einem weiteren Abenteuer um Winnetou und Old Shatterhand.\n\n\n
SUMMARY:Winnetou (2)
END:VEVENT
END:VCALENDAR
