BEGIN:VCALENDAR
X-WR-TIMEZONE:Europe/Berlin
X-WR-CALNAME:rbb-Kalender
VERSION:2.0
METHOD:PUBLISH
CALSCALE:GREGORIAN
PRODID:rbb-CMS DAY
BEGIN:VEVENT
CLASS:PUBLIC
URL:http://www.rbb-online.de/content/rbb/rbb/filmzeit/kultfilm/ein-mann-von-welt.html
DTEND:20140215T221500
DTSTART:20140215T221500
UID:/content/rbb/rbb/filmzeit/kultfilm/ein-mann-von-welt
DTSTAMP:20140406T170040
DESCRIPTION:Die mehrfach preisgekrönte, lakonische Krimikomödie aus Norwegen - Wettbewerb 2010.\n\n\n
SUMMARY:Ein Mann von Welt
END:VEVENT
END:VCALENDAR
