BEGIN:VCALENDAR
X-WR-TIMEZONE:Europe/Berlin
X-WR-CALNAME:rbb-Kalender
VERSION:2.0
METHOD:PUBLISH
CALSCALE:GREGORIAN
PRODID:rbb-CMS DAY
BEGIN:VEVENT
CLASS:PUBLIC
URL:http://www.rbb-online.de/content/rbb/rbb/filmzeit/kultfilm/howl---das-geheul.html
DTEND:20140208T235500
DTSTART:20140208T235500
UID:/content/rbb/rbb/filmzeit/kultfilm/howl---das-geheul
DTSTAMP:20140406T165810
DESCRIPTION:James Franco und David Strathairn in einem Film über die Geburtsstunde der „Beat Generation“.\n\n\n
SUMMARY:Howl - Das Geheul
END:VEVENT
END:VCALENDAR
