BEGIN:VCALENDAR
X-WR-TIMEZONE:Europe/Berlin
X-WR-CALNAME:rbb-Kalender
VERSION:2.0
METHOD:PUBLISH
CALSCALE:GREGORIAN
PRODID:rbb-CMS DAY
BEGIN:VEVENT
CLASS:PUBLIC
URL:http://www.rbb-online.de/content/rbb/rbb/filmzeit/kultfilm/zwoelf-uhr-mittags.html
DTEND:20140329T222000
DTSTART:20140329T222000
UID:/content/rbb/rbb/filmzeit/kultfilm/zwoelf-uhr-mittags
DTSTAMP:20140404T181009
DESCRIPTION:Legendärer und mehrfach Oscar-prämierter Western von Fred Zinnemann mit Gary Cooper und Grace Kelly in den Hauptrollen.\n\n\n
SUMMARY:Zwölf Uhr mittags
END:VEVENT
END:VCALENDAR
