BEGIN:VCALENDAR
X-WR-TIMEZONE:Europe/Berlin
X-WR-CALNAME:rbb-Kalender
VERSION:2.0
METHOD:PUBLISH
CALSCALE:GREGORIAN
PRODID:rbb-CMS DAY
BEGIN:VEVENT
CLASS:PUBLIC
URL:http://www.rbb-online.de/content/rbb/rbb/filmzeit/liebling-kreuzberg/liebling-kreuzberg--der-krawattenmann.html
DTEND:20140510T210000
DTSTART:20140510T210000
UID:/content/rbb/rbb/filmzeit/liebling-kreuzberg/liebling-kreuzberg--der-krawattenmann
DTSTAMP:20140407T202825
DESCRIPTION:Da Lola Lieblings Krawatten "zu grell" findet, besorgt er sich haufenweise Fliegen.\n\n\n
SUMMARY:Liebling Kreuzberg: Der Krawattenmann
END:VEVENT
END:VCALENDAR
