BEGIN:VCALENDAR
X-WR-TIMEZONE:Europe/Berlin
X-WR-CALNAME:rbb-Kalender
VERSION:2.0
METHOD:PUBLISH
CALSCALE:GREGORIAN
PRODID:rbb-CMS DAY
BEGIN:VEVENT
CLASS:PUBLIC
URL:http://www.rbb-online.de/content/rbb/rbb/filmzeit/liebling-kreuzberg/liebling-kreuzberg--die-sache-anja-clemens.html
DTEND:20140517T201500
DTSTART:20140517T201500
UID:/content/rbb/rbb/filmzeit/liebling-kreuzberg/liebling-kreuzberg--die-sache-anja-clemens
DTSTAMP:20140408T075605
DESCRIPTION:Lieblings Friseurin bittet um Hilfe: Anja Clemens steht ein Ermittlungsverfahren wegen Körperverletzung ins Haus.\n\n\n
SUMMARY:Liebling Kreuzberg: Die Sache Anja Clemens
END:VEVENT
END:VCALENDAR
