BEGIN:VCALENDAR
X-WR-TIMEZONE:Europe/Berlin
X-WR-CALNAME:rbb-Kalender
VERSION:2.0
METHOD:PUBLISH
CALSCALE:GREGORIAN
PRODID:rbb-CMS DAY
BEGIN:VEVENT
CLASS:PUBLIC
URL:http://www.rbb-online.de/content/rbb/rbb/filmzeit/liebling-kreuzberg/liebling-kreuzberg--paradies-mit-folgen.html
DTEND:20140503T210000
DTSTART:20140503T210000
UID:/content/rbb/rbb/filmzeit/liebling-kreuzberg/liebling-kreuzberg--paradies-mit-folgen
DTSTAMP:20140407T202914
DESCRIPTION:Frau Helmbold wendet sich an Anwalt Liebling mit der Bitte, ihr beim Verkauf eines privaten Waffenlagers zu helfen.\n\n\n
SUMMARY:Liebling Kreuzberg: Paradies mit Folgen
END:VEVENT
END:VCALENDAR
