BEGIN:VCALENDAR
X-WR-TIMEZONE:Europe/Berlin
X-WR-CALNAME:rbb-Kalender
VERSION:2.0
METHOD:PUBLISH
CALSCALE:GREGORIAN
PRODID:rbb-CMS DAY
BEGIN:VEVENT
CLASS:PUBLIC
URL:http://www.rbb-online.de/content/rbb/rbb/filmzeit/mediathek/der-geruch-von-erde.html
DTEND:20140424T201500
DTSTART:20140424T201500
UID:/content/rbb/rbb/filmzeit/mediathek/der-geruch-von-erde
DTSTAMP:20140405T191513
DESCRIPTION:Maria Simon in einem romantischen Heimatdrama.\n\n\n
SUMMARY:Der Geruch von Erde
END:VEVENT
END:VCALENDAR
