BEGIN:VCALENDAR
X-WR-TIMEZONE:Europe/Berlin
X-WR-CALNAME:rbb-Kalender
VERSION:2.0
METHOD:PUBLISH
CALSCALE:GREGORIAN
PRODID:rbb-CMS DAY
BEGIN:VEVENT
CLASS:PUBLIC
URL:http://www.rbb-online.de/content/rbb/rbb/filmzeit/mediathek/die-meute-der-erben.html
DTEND:20140406T153500
DTSTART:20140406T153500
UID:/content/rbb/rbb/filmzeit/mediathek/die-meute-der-erben
DTSTAMP:20140404T143351
DESCRIPTION:Günter Pfitzmann und Catherine Flemming in einer unterhaltsamen Komödie mit boulevardeskem Charakter.\n\n\n
SUMMARY:Die Meute der Erben
END:VEVENT
END:VCALENDAR
