BEGIN:VCALENDAR
X-WR-TIMEZONE:Europe/Berlin
X-WR-CALNAME:rbb-Kalender
VERSION:2.0
METHOD:PUBLISH
CALSCALE:GREGORIAN
PRODID:rbb-CMS DAY
BEGIN:VEVENT
CLASS:PUBLIC
URL:http://www.rbb-online.de/content/rbb/rbb/filmzeit/mediathek/maenner_und_andere.html
DTEND:20140412T115000
DTSTART:20140412T115000
UID:/content/rbb/rbb/filmzeit/mediathek/maenner_und_andere
DTSTAMP:20140404T214937
DESCRIPTION:Heike Makatsch, Dominic Raacke und Ulrike Folkerts in einer Komödie nach dem gleichnamigen Roman von Kerstin Gier.\n
SUMMARY:Männer und andere Katastrophen
END:VEVENT
END:VCALENDAR
