BEGIN:VCALENDAR
X-WR-TIMEZONE:Europe/Berlin
X-WR-CALNAME:rbb-Kalender
VERSION:2.0
METHOD:PUBLISH
CALSCALE:GREGORIAN
PRODID:rbb-CMS DAY
BEGIN:VEVENT
CLASS:PUBLIC
URL:http://www.rbb-online.de/content/rbb/rbb/filmzeit/mediathek/nur-der-berg-kennt-die-wahrheit.html
DTEND:20140418T063000
DTSTART:20140418T063000
UID:/content/rbb/rbb/filmzeit/mediathek/nur-der-berg-kennt-die-wahrheit
DTSTAMP:20140404T215424
DESCRIPTION:Johanna reist in die Berge, um den Tod ihrer Freundin aufzuklären.\n\n\n
SUMMARY:Nur der Berg kennt die Wahrheit
END:VEVENT
END:VCALENDAR
