BEGIN:VCALENDAR
X-WR-TIMEZONE:Europe/Berlin
X-WR-CALNAME:rbb-Kalender
VERSION:2.0
METHOD:PUBLISH
CALSCALE:GREGORIAN
PRODID:rbb-CMS DAY
BEGIN:VEVENT
CLASS:PUBLIC
URL:http://www.rbb-online.de/content/rbb/rbb/filmzeit/mediathek/willkommen-daheim.html
DTEND:20140413T090000
DTSTART:20140413T090000
UID:/content/rbb/rbb/filmzeit/mediathek/willkommen-daheim
DTSTAMP:20140404T215347
DESCRIPTION:Die Berliner Physiotherapeutin Felicitas erbt einen Bauernhof.\n\n\n
SUMMARY:Willkommen daheim
END:VEVENT
END:VCALENDAR
