BEGIN:VCALENDAR
X-WR-TIMEZONE:Europe/Berlin
X-WR-CALNAME:rbb-Kalender
VERSION:2.0
METHOD:PUBLISH
CALSCALE:GREGORIAN
PRODID:rbb-CMS DAY
BEGIN:VEVENT
CLASS:PUBLIC
URL:http://www.rbb-online.de/content/rbb/rbb/filmzeit/polizeiruf_110/polizeiruf-110--wolfsland.html
DTEND:20140419T201500
DTSTART:20140419T201500
UID:/content/rbb/rbb/filmzeit/polizeiruf_110/polizeiruf-110--wolfsland
DTSTAMP:20140404T231236
DESCRIPTION:In der Nähe des brandenburgischen Dorfes Kaskow in der Lausitz wird eine Wölfin angeschossen.\n\n\n
SUMMARY:Polizeiruf 110: Wolfsland
END:VEVENT
END:VCALENDAR
