BEGIN:VCALENDAR
X-WR-TIMEZONE:Europe/Berlin
X-WR-CALNAME:rbb-Kalender
VERSION:2.0
METHOD:PUBLISH
CALSCALE:GREGORIAN
PRODID:rbb-CMS DAY
BEGIN:VEVENT
CLASS:PUBLIC
URL:http://www.rbb-online.de/content/rbb/rbb/filmzeit/tatort/tatort--ihr-kinderlein-kommet.html
DTEND:20140512T201500
DTSTART:20140512T201500
UID:/content/rbb/rbb/filmzeit/tatort/tatort--ihr-kinderlein-kommet
DTSTAMP:20140405T041645
DESCRIPTION:Leipzig und Köln - in beiden Städten verschwinden Mädchen auf ähnliche Weise, Tage später werden ihre Leichen aus dem Rhein gefischt.\n\n\n
SUMMARY:Tatort: Ihr Kinderlein kommet
END:VEVENT
END:VCALENDAR
