BEGIN:VCALENDAR
X-WR-TIMEZONE:Europe/Berlin
X-WR-CALNAME:rbb-Kalender
VERSION:2.0
METHOD:PUBLISH
CALSCALE:GREGORIAN
PRODID:rbb-CMS DAY
BEGIN:VEVENT
CLASS:PUBLIC
URL:http://www.rbb-online.de/content/rbb/rbb/filmzeit/tatort/tatort--kinderland.html
DTEND:20140505T201500
DTSTART:20140505T201500
UID:/content/rbb/rbb/filmzeit/tatort/tatort--kinderland
DTSTAMP:20140405T041510
DESCRIPTION:Die 15-jährige Anna Römer wird von ihrer Mutter als vermisst gemeldet.\n\n\n
SUMMARY:Tatort: Kinderland
END:VEVENT
END:VCALENDAR
