BEGIN:VCALENDAR
X-WR-TIMEZONE:Europe/Berlin
X-WR-CALNAME:rbb-Kalender
VERSION:2.0
METHOD:PUBLISH
CALSCALE:GREGORIAN
PRODID:rbb-CMS DAY
BEGIN:VEVENT
CLASS:PUBLIC
URL:http://www.rbb-online.de/content/rbb/rbb/gartenzeit/archiv/12_05/narzissen.html
DTEND:20130512T180000
DTSTART:20130512T180000
UID:/content/rbb/rbb/gartenzeit/archiv/12_05/narzissen
DTSTAMP:20140406T164016
DESCRIPTION:Hier gibt es auch ohne Termin und ohne Chipkarte eine Diagnose. Jeweils montags und donnerstags kann man beim Berliner Pflanzenschutzamt seine kränkelnden Pflanzen vorstellen und erfährt dann, ob oder wie man ihnen helfen kann.\n
SUMMARY:Profitipps vom Pflanzenschutzamt
END:VEVENT
END:VCALENDAR
