BEGIN:VCALENDAR
X-WR-TIMEZONE:Europe/Berlin
X-WR-CALNAME:rbb-Kalender
VERSION:2.0
METHOD:PUBLISH
CALSCALE:GREGORIAN
PRODID:rbb-CMS DAY
BEGIN:VEVENT
CLASS:PUBLIC
URL:http://www.rbb-online.de/content/rbb/rbb/gartenzeit/archiv/20130804_1800/Laga_Prenzlau.html
DTEND:20130804T183000
DTSTART:20130804T180000
UID:/content/rbb/rbb/gartenzeit/archiv/20130804_1800/Laga_Prenzlau
DTSTAMP:20140406T164215
DESCRIPTION:Hochsommer auf der LAGA in Prenzlau. Überall blüht es jetzt. Besonders der Rosengarten, mit seinen viertausend Rosen am Eingangsbereich, zieht durch seine Farben und Düfte die Besucher magisch an.\n
SUMMARY:LAGA Prenzlau im Sommer
END:VEVENT
END:VCALENDAR
