BEGIN:VCALENDAR
X-WR-TIMEZONE:Europe/Berlin
X-WR-CALNAME:rbb-Kalender
VERSION:2.0
METHOD:PUBLISH
CALSCALE:GREGORIAN
PRODID:rbb-CMS DAY
BEGIN:VEVENT
CLASS:PUBLIC
URL:http://www.rbb-online.de/content/rbb/rbb/gartenzeit/archiv/20130804_1800/kirschen.html
DTEND:20130804T183000
DTSTART:20130804T180000
UID:/content/rbb/rbb/gartenzeit/archiv/20130804_1800/kirschen
DTSTAMP:20140405T182157
DESCRIPTION:Kräftig rot und mit köstlichem Aroma: Auch in Werder ist Kirschenzeit. Viele Städter kommen zur Selbstpflücke in die Plantagen. Die meisten Früchte werden von Saisonarbeiterinnen für die  Wochenmarktstände der Region geerntet.\n
SUMMARY:Süßkirschen aus Werder
END:VEVENT
END:VCALENDAR
