BEGIN:VCALENDAR
X-WR-TIMEZONE:Europe/Berlin
X-WR-CALNAME:rbb-Kalender
VERSION:2.0
METHOD:PUBLISH
CALSCALE:GREGORIAN
PRODID:rbb-CMS DAY
BEGIN:VEVENT
CLASS:PUBLIC
URL:http://www.rbb-online.de/content/rbb/rbb/gartenzeit/archiv/20130804_1800/stauden.html
DTEND:20130804T183000
DTSTART:20130804T180000
UID:/content/rbb/rbb/gartenzeit/archiv/20130804_1800/stauden
DTSTAMP:20140405T182117
DESCRIPTION:Stauden sind in der Regel leicht zu pflegen. Damit es nicht zur Last wird, sollte man einige Grundregeln beachten. Staudenexperte Wolfgang Härtel gibt die richtigen Tipps.\n\n\n
SUMMARY:Neue Gartenklassiker im Staudenbeet 
END:VEVENT
END:VCALENDAR
