BEGIN:VCALENDAR
X-WR-TIMEZONE:Europe/Berlin
X-WR-CALNAME:rbb-Kalender
VERSION:2.0
METHOD:PUBLISH
CALSCALE:GREGORIAN
PRODID:rbb-CMS DAY
BEGIN:VEVENT
CLASS:PUBLIC
URL:http://www.rbb-online.de/content/rbb/rbb/gartenzeit/archiv/20130804_1800/tipps.html
DTEND:20130804T183000
DTSTART:20130804T180000
UID:/content/rbb/rbb/gartenzeit/archiv/20130804_1800/tipps
DTSTAMP:20140405T182413
DESCRIPTION:Clematis pflanzen +++ Kohlweißlinge bekämpfen +++ Buchsbaumpilz (Cylindrocladium buxicola) auf dem Vormarsch +++ Fruchtpflege für reiche Ernte +++\n
SUMMARY:Tipps
END:VEVENT
END:VCALENDAR
