BEGIN:VCALENDAR
X-WR-TIMEZONE:Europe/Berlin
X-WR-CALNAME:rbb-Kalender
VERSION:2.0
METHOD:PUBLISH
CALSCALE:GREGORIAN
PRODID:rbb-CMS DAY
BEGIN:VEVENT
CLASS:PUBLIC
URL:http://www.rbb-online.de/content/rbb/rbb/gartenzeit/archiv/20130818_1800/tipps.html
DTEND:20130818T183000
DTSTART:20130818T180000
UID:/content/rbb/rbb/gartenzeit/archiv/20130818_1800/tipps
DTSTAMP:20140405T182420
DESCRIPTION:+++ Kräuter ernten +++ Schmucklilien richtig pflegen +++ Fallobst entsorgen +++ Efeu vermehren +++\n\n\n
SUMMARY:Tipps
END:VEVENT
END:VCALENDAR
