BEGIN:VCALENDAR
X-WR-TIMEZONE:Europe/Berlin
X-WR-CALNAME:rbb-Kalender
VERSION:2.0
METHOD:PUBLISH
CALSCALE:GREGORIAN
PRODID:rbb-CMS DAY
BEGIN:VEVENT
CLASS:PUBLIC
URL:http://www.rbb-online.de/content/rbb/rbb/gartenzeit/archiv/20130818_1800/vern_greiffenberg.html
DTEND:20130818T183000
DTSTART:20130818T180000
UID:/content/rbb/rbb/gartenzeit/archiv/20130818_1800/vern_greiffenberg
DTSTAMP:20140406T164124
DESCRIPTION:Dem Ort Greiffenberg sieht man nicht an, dass es einen Schatz hütet. Einen Garten, in dem 2000 bedrohte, vergessene und wieder entdeckte Sorten Nutzpflanzen gedeihen. Urgetreide, seltene Lauch- und Kürbisgewächse, Buttersalat.\n
SUMMARY:Seltene Sorten aus Greiffenberg
END:VEVENT
END:VCALENDAR
