BEGIN:VCALENDAR
X-WR-TIMEZONE:Europe/Berlin
X-WR-CALNAME:rbb-Kalender
VERSION:2.0
METHOD:PUBLISH
CALSCALE:GREGORIAN
PRODID:rbb-CMS DAY
BEGIN:VEVENT
CLASS:PUBLIC
URL:http://www.rbb-online.de/content/rbb/rbb/gartenzeit/archiv/20130901_1800/Echinacea.html
DTEND:20130901T183000
DTSTART:20130901T180000
UID:/content/rbb/rbb/gartenzeit/archiv/20130901_1800/Echinacea
DTSTAMP:20140405T182005
DESCRIPTION:Zur echten Trendpflanze hat sich in den letzten Jahren der so genannte Purpursonnenhut entwickelt. Kein Wunder, denn die Pflanze blüht von Juli bis September und ist mit ihren leuchtenden Blüten auf robusten Blütenstielen eine große Zierde für Beet und Vase.\n
SUMMARY:Echinacea 
END:VEVENT
END:VCALENDAR
