BEGIN:VCALENDAR
X-WR-TIMEZONE:Europe/Berlin
X-WR-CALNAME:rbb-Kalender
VERSION:2.0
METHOD:PUBLISH
CALSCALE:GREGORIAN
PRODID:rbb-CMS DAY
BEGIN:VEVENT
CLASS:PUBLIC
URL:http://www.rbb-online.de/content/rbb/rbb/gartenzeit/archiv/20130901_1800/Privatgarten_funke.html
DTEND:20130901T183000
DTSTART:20130901T180000
UID:/content/rbb/rbb/gartenzeit/archiv/20130901_1800/Privatgarten_funke
DTSTAMP:20140406T163602
DESCRIPTION:Am Majakowskiring hat der Gartenbesitzer Martin Funke ein besonderes Gartenidyll auf über eintausend Quadratmeter geschaffen - mit prachtvollen Stauden und ganz ausgefallenen Gestaltungsideen.\n\n\n
SUMMARY:Die rbb Gartenzeit zu Gast in einem Pankower Privatgarten
END:VEVENT
END:VCALENDAR
