BEGIN:VCALENDAR
X-WR-TIMEZONE:Europe/Berlin
X-WR-CALNAME:rbb-Kalender
VERSION:2.0
METHOD:PUBLISH
CALSCALE:GREGORIAN
PRODID:rbb-CMS DAY
BEGIN:VEVENT
CLASS:PUBLIC
URL:http://www.rbb-online.de/content/rbb/rbb/gartenzeit/archiv/20130901_1800/praeriegarten.html
DTEND:20130901T183000
DTSTART:20130901T180000
UID:/content/rbb/rbb/gartenzeit/archiv/20130901_1800/praeriegarten
DTSTAMP:20140406T163535
DESCRIPTION:Sie sind eigentlich in der Neuen Welt zu Hause – bei uns allerdings gehören sie ebenfalls längst zu den Schönsten im Staudenbeet: Pflanzen der verschiedenen Regionen Nordamerikas, vor allem der Prärie.\n
SUMMARY:Pflanzen im Präriegarten
END:VEVENT
END:VCALENDAR
