BEGIN:VCALENDAR
X-WR-TIMEZONE:Europe/Berlin
X-WR-CALNAME:rbb-Kalender
VERSION:2.0
METHOD:PUBLISH
CALSCALE:GREGORIAN
PRODID:rbb-CMS DAY
BEGIN:VEVENT
CLASS:PUBLIC
URL:http://www.rbb-online.de/content/rbb/rbb/gartenzeit/archiv/20130901_1800/tomaten.html
DTEND:20130901T183000
DTSTART:20130901T180000
UID:/content/rbb/rbb/gartenzeit/archiv/20130901_1800/tomaten
DTSTAMP:20140405T182102
DESCRIPTION:Sie sind der Hit im eigenen Garten - sonnengereifte und schmackhafte Tomaten. Es gibt sie in allen möglichen Formen und Farben. Mehr als zweitausend registrierte Sorten zählt man weltweit. Kolumbus hat die ersten Exemplare aus Mittelamerika mitgebracht.\n
SUMMARY:Tomaten
END:VEVENT
END:VCALENDAR
