BEGIN:VCALENDAR
X-WR-TIMEZONE:Europe/Berlin
X-WR-CALNAME:rbb-Kalender
VERSION:2.0
METHOD:PUBLISH
CALSCALE:GREGORIAN
PRODID:rbb-CMS DAY
BEGIN:VEVENT
LOCATION:  
CLASS:PUBLIC
URL:http://www.rbb-online.de/content/rbb/rbb/gartenzeit/archiv/20130915_1800.html
DTEND:20130915T183000
DTSTART:20130915T180000
UID:/content/rbb/rbb/gartenzeit/archiv/20130915_1800
DTSTAMP:20140405T181601
DESCRIPTION:+++ rbb Gartenzeit aus dem Biogarten Prieros +++ Kordes-Rosen +++  Herbstliche Balkonkästen auf Bestellung +++ Kartoffeln +++ Sumpfgarten +++ Herkulesstaude\n\n\n
SUMMARY:rbb Gartenzeit 15.09.2013 18:00
END:VEVENT
END:VCALENDAR
