BEGIN:VCALENDAR
X-WR-TIMEZONE:Europe/Berlin
X-WR-CALNAME:rbb-Kalender
VERSION:2.0
METHOD:PUBLISH
CALSCALE:GREGORIAN
PRODID:rbb-CMS DAY
BEGIN:VEVENT
CLASS:PUBLIC
URL:http://www.rbb-online.de/content/rbb/rbb/gartenzeit/archiv/20130929_1800/Frauenpower-im-garten.html
DTEND:20130929T183000
DTSTART:20130929T180000
UID:/content/rbb/rbb/gartenzeit/archiv/20130929_1800/Frauenpower-im-garten
DTSTAMP:20140405T181246
DESCRIPTION:Rudower Frauenpower – das ist das einzige Gartenbau-Frauen-Team in Berlin: unschlagbar schnell und effektiv beackern sie im Jahr bis zu 600 Gärten im Süden der Stadt.\n\n
SUMMARY:Frauenpower im Garten
END:VEVENT
END:VCALENDAR
