BEGIN:VCALENDAR
X-WR-TIMEZONE:Europe/Berlin
X-WR-CALNAME:rbb-Kalender
VERSION:2.0
METHOD:PUBLISH
CALSCALE:GREGORIAN
PRODID:rbb-CMS DAY
BEGIN:VEVENT
CLASS:PUBLIC
URL:http://www.rbb-online.de/content/rbb/rbb/gartenzeit/archiv/20130929_1800/penny-snell.html
DTEND:20130929T183000
DTSTART:20130929T180000
UID:/content/rbb/rbb/gartenzeit/archiv/20130929_1800/penny-snell
DTSTAMP:20140404T211040
DESCRIPTION:Penny Snell hat Flower Power und ihre Terrier Jake und Georgy sind immer mit dabei. Penny Snell ist eine Perfektionistin. Seit 25 Jahren ist sie in Cobham südöstlich von London damit beschäftigt ihren Garten zu verschönern.\n\n
SUMMARY:Der Englische Garten von Penny Snell
END:VEVENT
END:VCALENDAR
