BEGIN:VCALENDAR
X-WR-TIMEZONE:Europe/Berlin
X-WR-CALNAME:rbb-Kalender
VERSION:2.0
METHOD:PUBLISH
CALSCALE:GREGORIAN
PRODID:rbb-CMS DAY
BEGIN:VEVENT
CLASS:PUBLIC
URL:http://www.rbb-online.de/content/rbb/rbb/gartenzeit/archiv/20130929_1800/tafeltrauben.html
DTEND:20130929T183000
DTSTART:20130929T180000
UID:/content/rbb/rbb/gartenzeit/archiv/20130929_1800/tafeltrauben
DTSTAMP:20140405T181214
DESCRIPTION:Vor über 2000 Jahren brachten die Römer Rebstöcke mit in unsere Breiten. Um auch hier ihren geliebten Wein zu keltern. Doch lohnt es sich, solche Rebstöcke auch in den Hausgarten zu pflanzen?\n\n
SUMMARY:Tafeltrauben - die besten Sorten
END:VEVENT
END:VCALENDAR
