BEGIN:VCALENDAR
X-WR-TIMEZONE:Europe/Berlin
X-WR-CALNAME:rbb-Kalender
VERSION:2.0
METHOD:PUBLISH
CALSCALE:GREGORIAN
PRODID:rbb-CMS DAY
BEGIN:VEVENT
CLASS:PUBLIC
URL:http://www.rbb-online.de/content/rbb/rbb/gartenzeit/archiv/20131013_1800/mobile-hecken.html
DTEND:20131013T183000
DTSTART:20131013T180000
UID:/content/rbb/rbb/gartenzeit/archiv/20131013_1800/mobile-hecken
DTSTAMP:20140405T181351
DESCRIPTION:In der ältesten Baumschule Deutschlands, in der Berliner Baumschule Späth, können die Besucher neben dem riesigen Sortiment an Sträuchern, Kräutern, Bäumen, und Obstgehölzen etwas relativ Neues bewundern. Ein Areal mit verschiedenen hochwertigen Fertighecken.\n
SUMMARY:Mobile Hecken
END:VEVENT
END:VCALENDAR
