BEGIN:VCALENDAR
X-WR-TIMEZONE:Europe/Berlin
X-WR-CALNAME:rbb-Kalender
VERSION:2.0
METHOD:PUBLISH
CALSCALE:GREGORIAN
PRODID:rbb-CMS DAY
BEGIN:VEVENT
CLASS:PUBLIC
URL:http://www.rbb-online.de/content/rbb/rbb/gartenzeit/archiv/20131027_1800/giftpflanzen.html
DTEND:20131027T183000
DTSTART:20131027T180000
UID:/content/rbb/rbb/gartenzeit/archiv/20131027_1800/giftpflanzen
DTSTAMP:20140405T182634
DESCRIPTION:Im Jahr 1856 fand im schottischen Dingwall ein Festmahl sein jähes Ende, weil die Köchin anstelle von Meerrettich, die Wurzel vom Eisenhut in die Bratensoße rieb. Zwei Gäste waren sofort tot, etliche erkrankten.\n
SUMMARY:Giftpflanzen im Garten
END:VEVENT
END:VCALENDAR
