BEGIN:VCALENDAR
X-WR-TIMEZONE:Europe/Berlin
X-WR-CALNAME:rbb-Kalender
VERSION:2.0
METHOD:PUBLISH
CALSCALE:GREGORIAN
PRODID:rbb-CMS DAY
BEGIN:VEVENT
CLASS:PUBLIC
URL:http://www.rbb-online.de/content/rbb/rbb/gartenzeit/archiv/20131027_1800/haecksler.html
DTEND:20131027T183000
DTSTART:20131027T180000
UID:/content/rbb/rbb/gartenzeit/archiv/20131027_1800/haecksler
DTSTAMP:20140405T182617
DESCRIPTION:Ende Oktober bis tief in den November haben Gartenhäcksler Hochsaison. Zum Schreddern fallen Baum-, Strauch- und Hecken-, aber auch Staudenschnittgut an.\n
SUMMARY:Gartenhäcksler
END:VEVENT
END:VCALENDAR
