BEGIN:VCALENDAR
X-WR-TIMEZONE:Europe/Berlin
X-WR-CALNAME:rbb-Kalender
VERSION:2.0
METHOD:PUBLISH
CALSCALE:GREGORIAN
PRODID:rbb-CMS DAY
BEGIN:VEVENT
CLASS:PUBLIC
URL:http://www.rbb-online.de/content/rbb/rbb/gartenzeit/archiv/20131027_1800/reihenhausgarten.html
DTEND:20131027T183000
DTSTART:20131027T180000
UID:/content/rbb/rbb/gartenzeit/archiv/20131027_1800/reihenhausgarten
DTSTAMP:20140404T211741
DESCRIPTION:Kingston upon Thames ist ein typischer Londoner Vorort. Im Südwesten geht es Kleinstädtischer aber ebenfalls sehr britisch zu. Hübsche Reihenhäuser mit vielen Jugendstilelementen prägen das Stadtbild ebenso wie malerische kleine Vorgärten.\n
SUMMARY:Reihenhausgarten
END:VEVENT
END:VCALENDAR
