BEGIN:VCALENDAR
X-WR-TIMEZONE:Europe/Berlin
X-WR-CALNAME:rbb-Kalender
VERSION:2.0
METHOD:PUBLISH
CALSCALE:GREGORIAN
PRODID:rbb-CMS DAY
BEGIN:VEVENT
CLASS:PUBLIC
URL:http://www.rbb-online.de/content/rbb/rbb/gartenzeit/archiv/20131110_1800/fruchtschmuck.html
DTEND:20131110T183000
DTSTART:20131110T180000
UID:/content/rbb/rbb/gartenzeit/archiv/20131110_1800/fruchtschmuck
DTSTAMP:20140405T182939
DESCRIPTION:Der kleine, wie mit festlichen Kugeln geschmückte Strauch heißt Ardisia. Wenn Sie ihn auf einen hellen Platz stellen und bei mäßiger Zimmertemperatur und möglichst hoher Luftfeuchte pflegen, halten sich die Beeren bis zu einem Jahr.\n
SUMMARY:Fruchtschmuck an Zimmerpflanzen
END:VEVENT
END:VCALENDAR
